BEGIN:VCALENDAR
VERSION:2.0
PRODID:-//Radio Slovenske gorice - ECPv6.15.20//NONSGML v1.0//EN
CALSCALE:GREGORIAN
METHOD:PUBLISH
X-WR-CALNAME:Radio Slovenske gorice
X-ORIGINAL-URL:https://rsg.si
X-WR-CALDESC:Dogodki za Radio Slovenske gorice
REFRESH-INTERVAL;VALUE=DURATION:PT1H
X-Robots-Tag:noindex
X-PUBLISHED-TTL:PT1H
BEGIN:VTIMEZONE
TZID:Europe/Paris
BEGIN:DAYLIGHT
TZOFFSETFROM:+0100
TZOFFSETTO:+0200
TZNAME:CEST
DTSTART:20240331T010000
END:DAYLIGHT
BEGIN:STANDARD
TZOFFSETFROM:+0200
TZOFFSETTO:+0100
TZNAME:CET
DTSTART:20241027T010000
END:STANDARD
BEGIN:DAYLIGHT
TZOFFSETFROM:+0100
TZOFFSETTO:+0200
TZNAME:CEST
DTSTART:20250330T010000
END:DAYLIGHT
BEGIN:STANDARD
TZOFFSETFROM:+0200
TZOFFSETTO:+0100
TZNAME:CET
DTSTART:20251026T010000
END:STANDARD
BEGIN:DAYLIGHT
TZOFFSETFROM:+0100
TZOFFSETTO:+0200
TZNAME:CEST
DTSTART:20260329T010000
END:DAYLIGHT
BEGIN:STANDARD
TZOFFSETFROM:+0200
TZOFFSETTO:+0100
TZNAME:CET
DTSTART:20261025T010000
END:STANDARD
END:VTIMEZONE
BEGIN:VEVENT
DTSTART;TZID=Europe/Paris:20251218T160000
DTEND;TZID=Europe/Paris:20251218T160000
DTSTAMP:20260420T230547
CREATED:20251202T113339Z
LAST-MODIFIED:20251202T113426Z
UID:85347-1766073600-1766073600@rsg.si
SUMMARY:Božično dobrodelni koncert OŠ Sveta Ana
DESCRIPTION:Gostja: Natalija Kolšek \n 
URL:https://rsg.si/dogodki/bozicno-dobrodelni-koncert-os-sveta-ana/
LOCATION:Športna dvorana Sveta Ana
END:VEVENT
BEGIN:VEVENT
DTSTART;TZID=Europe/Paris:20251217T170000
DTEND;TZID=Europe/Paris:20251217T170000
DTSTAMP:20260420T230547
CREATED:20251129T191025Z
LAST-MODIFIED:20251129T191025Z
UID:83308-1765990800-1765990800@rsg.si
SUMMARY:ČAROBNI BENEDIKT 2025: Zvezda želja
DESCRIPTION:Gledališka predstava za otroke v organizaciji Vrtca Benedikt.
URL:https://rsg.si/dogodki/carobni-benedikt-2025-zvezda-zelja/
LOCATION:Športna dvorana Benedikt
END:VEVENT
BEGIN:VEVENT
DTSTART;TZID=Europe/Paris:20251216T170000
DTEND;TZID=Europe/Paris:20251216T170000
DTSTAMP:20260420T230547
CREATED:20251202T110710Z
LAST-MODIFIED:20251202T110710Z
UID:85345-1765904400-1765904400@rsg.si
SUMMARY:Ujemi trenutek
DESCRIPTION:Koncert OŠ Cerkvenjak Vitomarci
URL:https://rsg.si/dogodki/ujemi-trenutek/
LOCATION:Dom kulture Cerkvenjak
END:VEVENT
BEGIN:VEVENT
DTSTART;TZID=Europe/Paris:20251216T163000
DTEND;TZID=Europe/Paris:20251216T163000
DTSTAMP:20260420T230547
CREATED:20251202T110319Z
LAST-MODIFIED:20251202T110330Z
UID:85339-1765902600-1765902600@rsg.si
SUMMARY:Pokaži kaj znaš
DESCRIPTION:Vrtec Pikapolonica Cerkvenjak
URL:https://rsg.si/dogodki/pokazi-kaj-znas/
LOCATION:Dom kulture Cerkvenjak
END:VEVENT
BEGIN:VEVENT
DTSTART;TZID=Europe/Paris:20251214T170000
DTEND;TZID=Europe/Paris:20251214T170000
DTSTAMP:20260420T230547
CREATED:20251129T190006Z
LAST-MODIFIED:20251129T190315Z
UID:83296-1765731600-1765731600@rsg.si
SUMMARY:Božični koncert Slovenskogoriškega pihalnega orkestra KD MOL
DESCRIPTION:Gostja: Nuša Derenda \n(vstop prost)
URL:https://rsg.si/dogodki/bozicni-koncert-slovenskogoriskega-pihalnega-orkestra-kd-mol/
LOCATION:Športna dvorana Lenart
END:VEVENT
BEGIN:VEVENT
DTSTART;TZID=Europe/Paris:20251213T170000
DTEND;TZID=Europe/Paris:20251213T170000
DTSTAMP:20260420T230547
CREATED:20251202T105801Z
LAST-MODIFIED:20251202T105801Z
UID:85331-1765645200-1765645200@rsg.si
SUMMARY:Pletenje krdebačev za humanitarni namen
DESCRIPTION:Društvo Krdebač
URL:https://rsg.si/dogodki/pletenje-krdebacev-za-humanitarni-namen/
LOCATION:Cerkvenjak
END:VEVENT
BEGIN:VEVENT
DTSTART;TZID=Europe/Paris:20251213T160000
DTEND;TZID=Europe/Paris:20251213T160000
DTSTAMP:20260420T230547
CREATED:20251129T191118Z
LAST-MODIFIED:20251129T191118Z
UID:83310-1765641600-1765641600@rsg.si
SUMMARY:ČAROBNI BENEDIKT 2025: Pravljična urica in Fletni muzikanti
DESCRIPTION:Ob 16. uri pravljična urica s Knjižnico Lenart\, ob 17. uri pa nastop Fletnih muzikantov.
URL:https://rsg.si/dogodki/carobni-benedikt-2025-pravljicna-urica-in-fletni-muzikanti/
LOCATION:Parkirišče ob Športni dvorani Benedikt
END:VEVENT
BEGIN:VEVENT
DTSTART;TZID=Europe/Paris:20251212T180000
DTEND;TZID=Europe/Paris:20251212T180000
DTSTAMP:20260420T230547
CREATED:20251202T123459Z
LAST-MODIFIED:20251202T123459Z
UID:85352-1765562400-1765562400@rsg.si
SUMMARY:Božični koncert Občine Pesnica
DESCRIPTION:Gostje: Natalija Verboten\, Ansambel Naveza\, Vili Resnik. \nVstopnine ni!
URL:https://rsg.si/dogodki/bozicni-koncert-obcine-pesnica/
LOCATION:Športni park Pesnica
END:VEVENT
BEGIN:VEVENT
DTSTART;TZID=Europe/Paris:20251212T163000
DTEND;TZID=Europe/Paris:20251212T163000
DTSTAMP:20260420T230547
CREATED:20251211T063907Z
LAST-MODIFIED:20251211T063907Z
UID:85468-1765557000-1765557000@rsg.si
SUMMARY:Božičkovanje in božični sejem
DESCRIPTION:Gledališka predstava\, prihod Božička s kočijo\, obdarovanje\, ustvarjalne delavnice za otroke\, domače dobrote\, nastop MePZ KD Cerkvenjak in Akustičnega orgazma
URL:https://rsg.si/dogodki/bozickovanje-in-bozicni-sejem/
LOCATION:Cerkvenjak
END:VEVENT
BEGIN:VEVENT
DTSTART;TZID=Europe/Paris:20251207T170000
DTEND;TZID=Europe/Paris:20251207T170000
DTSTAMP:20260420T230547
CREATED:20251129T191159Z
LAST-MODIFIED:20251129T191244Z
UID:83312-1765126800-1765126800@rsg.si
SUMMARY:ČAROBNI BENEDIKT 2025: Zlodjova parada
DESCRIPTION:
URL:https://rsg.si/dogodki/carobni-benedikt-2025-zlodjova-parada/
LOCATION:V centru Benedikta
END:VEVENT
BEGIN:VEVENT
DTSTART;TZID=Europe/Paris:20251206T150000
DTEND;TZID=Europe/Paris:20251206T150000
DTSTAMP:20260420T230547
CREATED:20251129T191342Z
LAST-MODIFIED:20251129T191342Z
UID:83316-1765033200-1765033200@rsg.si
SUMMARY:ČAROBNI BENEDIKT 2025: Skupaj v praznični december
DESCRIPTION:Tradicionalna praznična prireditev Mažoretne in twirling skupine občine Pesnica ter Mažoretnega in twirling kluba Benedikt.
URL:https://rsg.si/dogodki/carobni-benedikt-2025-skupaj-v-praznicni-december/
LOCATION:Športna dvorana Benedikt
END:VEVENT
BEGIN:VEVENT
DTSTART;TZID=Europe/Paris:20251205T170000
DTEND;TZID=Europe/Paris:20251205T170000
DTSTAMP:20260420T230547
CREATED:20251129T191449Z
LAST-MODIFIED:20251129T191449Z
UID:83318-1764954000-1764954000@rsg.si
SUMMARY:ČAROBNI BENEDIKT 2025: Božično-novoletni koncert DU Benedikt
DESCRIPTION:
URL:https://rsg.si/dogodki/carobni-benedikt-2025-bozicno-novoletni-koncert-du-benedikt/
LOCATION:Dom kulture Benedikt
END:VEVENT
BEGIN:VEVENT
DTSTART;TZID=Europe/Paris:20251128T160000
DTEND;TZID=Europe/Paris:20251128T160000
DTSTAMP:20260420T230547
CREATED:20251129T190430Z
LAST-MODIFIED:20251129T190430Z
UID:83300-1764345600-1764345600@rsg.si
SUMMARY:Prižig lučk na Fontani vin v Vodolah
DESCRIPTION:Otvoritev zimske pravljice\, lučke\, kuhano vino\, vonj po cimetu\, nežna glasba…
URL:https://rsg.si/dogodki/prizig-luck-na-fontani-vin-v-vodolah/
END:VEVENT
BEGIN:VEVENT
DTSTART;TZID=Europe/Paris:20250302T080000
DTEND;TZID=Europe/Paris:20250302T170000
DTSTAMP:20260420T230547
CREATED:20250219T225814Z
LAST-MODIFIED:20250219T225814Z
UID:957-1740902400-1740934800@rsg.si
SUMMARY:Valentinov koncert Trio Vivere
DESCRIPTION:Nastopila bosta tudi Nuša Derenda in Metod Žunec. \nVstopnice na Eventim
URL:https://rsg.si/dogodki/valentinov-koncert-trio-vivere/
LOCATION:Športna dvorana Benedikt
END:VEVENT
BEGIN:VEVENT
DTSTART;TZID=Europe/Paris:20250228T080000
DTEND;TZID=Europe/Paris:20250228T180000
DTSTAMP:20260420T230547
CREATED:20250219T225704Z
LAST-MODIFIED:20250219T225704Z
UID:954-1740729600-1740765600@rsg.si
SUMMARY:Večer smeha
DESCRIPTION:Sodelujejo: \n\nDramska skupina Kulturnega društva Sv. Ana\nOver Mura Muvi Mejkers
URL:https://rsg.si/dogodki/vecer-smeha/
LOCATION:KTC Sv. Ana
END:VEVENT
BEGIN:VEVENT
DTSTART;TZID=Europe/Paris:20250220T170000
DTEND;TZID=Europe/Paris:20250220T190000
DTSTAMP:20260420T230547
CREATED:20250219T224628Z
LAST-MODIFIED:20250624T202418Z
UID:949-1740070800-1740078000@rsg.si
SUMMARY:Pravljično-ustvarjalno doživetje s knjižnico Lenart
DESCRIPTION:V četrtek\, 20. februarja\, ob 17. uri\, v Kulturnem domu Benedikt
URL:https://rsg.si/dogodki/pravljicno-ustvarjalno-dozivetje-s-knjiznico-lenart/
END:VEVENT
END:VCALENDAR