BEGIN:VCALENDAR
VERSION:2.0
PRODID:-//Radio Slovenske gorice - ECPv6.15.20//NONSGML v1.0//EN
CALSCALE:GREGORIAN
METHOD:PUBLISH
X-WR-CALNAME:Radio Slovenske gorice
X-ORIGINAL-URL:https://rsg.si
X-WR-CALDESC:Dogodki za Radio Slovenske gorice
REFRESH-INTERVAL;VALUE=DURATION:PT1H
X-Robots-Tag:noindex
X-PUBLISHED-TTL:PT1H
BEGIN:VTIMEZONE
TZID:Europe/Paris
BEGIN:DAYLIGHT
TZOFFSETFROM:+0100
TZOFFSETTO:+0200
TZNAME:CEST
DTSTART:20240331T010000
END:DAYLIGHT
BEGIN:STANDARD
TZOFFSETFROM:+0200
TZOFFSETTO:+0100
TZNAME:CET
DTSTART:20241027T010000
END:STANDARD
BEGIN:DAYLIGHT
TZOFFSETFROM:+0100
TZOFFSETTO:+0200
TZNAME:CEST
DTSTART:20250330T010000
END:DAYLIGHT
BEGIN:STANDARD
TZOFFSETFROM:+0200
TZOFFSETTO:+0100
TZNAME:CET
DTSTART:20251026T010000
END:STANDARD
BEGIN:DAYLIGHT
TZOFFSETFROM:+0100
TZOFFSETTO:+0200
TZNAME:CEST
DTSTART:20260329T010000
END:DAYLIGHT
BEGIN:STANDARD
TZOFFSETFROM:+0200
TZOFFSETTO:+0100
TZNAME:CET
DTSTART:20261025T010000
END:STANDARD
BEGIN:DAYLIGHT
TZOFFSETFROM:+0100
TZOFFSETTO:+0200
TZNAME:CEST
DTSTART:20270328T010000
END:DAYLIGHT
BEGIN:STANDARD
TZOFFSETFROM:+0200
TZOFFSETTO:+0100
TZNAME:CET
DTSTART:20271031T010000
END:STANDARD
END:VTIMEZONE
BEGIN:VEVENT
DTSTART;TZID=Europe/Paris:20260313T170000
DTEND;TZID=Europe/Paris:20260313T170000
DTSTAMP:20260420T175618
CREATED:20260306T134909Z
LAST-MODIFIED:20260306T134909Z
UID:86540-1773421200-1773421200@rsg.si
SUMMARY:razstava - Moja krajina
DESCRIPTION:Tematska razstava z naslovom Pozabljeni prostori 2026.
URL:https://rsg.si/dogodki/razstava-moja-krajina/
LOCATION:Križni hodnik Socialno varstvenega zavoda Hrastovec
END:VEVENT
BEGIN:VEVENT
DTSTART;TZID=Europe/Paris:20260312T180000
DTEND;TZID=Europe/Paris:20260312T180000
DTSTAMP:20260420T175618
CREATED:20260220T101857Z
LAST-MODIFIED:20260220T101857Z
UID:86363-1773338400-1773338400@rsg.si
SUMMARY:Po poteh belega metulja - Agnes Kojc
DESCRIPTION:Druženje z Agnes Kojc in mladimi muzikanti iz Jurovskega dola
URL:https://rsg.si/dogodki/po-poteh-belega-metulja-agnes-kojc/
LOCATION:Knjižnica Lenart
END:VEVENT
BEGIN:VEVENT
DTSTART;TZID=Europe/Paris:20260312T170000
DTEND;TZID=Europe/Paris:20260312T170000
DTSTAMP:20260420T175618
CREATED:20260226T103232Z
LAST-MODIFIED:20260226T103232Z
UID:86417-1773334800-1773334800@rsg.si
SUMMARY:Ringaraja
DESCRIPTION:Območno srečanje otroških folklornih skupin: FS Vrtec Lenart\, FS Studenček iz OŠ Benedikt\, Starejša FS Šleka pac OŠ Jurovski Dol
URL:https://rsg.si/dogodki/ringaraja/
LOCATION:Kulturni dom Jurovski Dol
END:VEVENT
BEGIN:VEVENT
DTSTART;TZID=Europe/Paris:20260307T200000
DTEND;TZID=Europe/Paris:20260307T200000
DTSTAMP:20260420T175618
CREATED:20260302T105529Z
LAST-MODIFIED:20260302T105529Z
UID:86456-1772913600-1772913600@rsg.si
SUMMARY:Koncert: Rudi Bučar - Kamen\, trn\, brin
DESCRIPTION:Vstopnice: 20€ (v predprodaji)\, 25€ (na dan dogodka)\, v TIC Gornja Radgona in prodajnih mestih Eventima
URL:https://rsg.si/dogodki/koncert-rudi-bucar-kamen-trn-brin/
LOCATION:Dom kulture Gornja Radgona
END:VEVENT
BEGIN:VEVENT
DTSTART;TZID=Europe/Paris:20260305T103000
DTEND;TZID=Europe/Paris:20260305T103000
DTSTAMP:20260420T175618
CREATED:20260225T070831Z
LAST-MODIFIED:20260225T070927Z
UID:86402-1772706600-1772706600@rsg.si
SUMMARY:Lutkarije 2026
DESCRIPTION:Območno srečanje lutkovnih skupin. Nastopili bosta lutkovni skupini OŠ in vrtca Sveta Trojica ter OŠ Jožeta Hudalesa Jurovski Dol.
URL:https://rsg.si/dogodki/lutkarije-2026/
LOCATION:Kulturno-turistični center Sveta Ana
END:VEVENT
BEGIN:VEVENT
DTSTART;TZID=Europe/Paris:20260301T170000
DTEND;TZID=Europe/Paris:20260301T170000
DTSTAMP:20260420T175618
CREATED:20260217T072613Z
LAST-MODIFIED:20260217T072613Z
UID:86323-1772384400-1772384400@rsg.si
SUMMARY:Belo se pere na devetdeset
DESCRIPTION:Film Marka Naberšnika po knjižni uspešnici Bronje Žakelj. Organizator: KD Benedikt.
URL:https://rsg.si/dogodki/belo-se-pere-na-devetdeset/
LOCATION:Kulturni dom Benedikt
END:VEVENT
BEGIN:VEVENT
DTSTART;TZID=Europe/Paris:20260228T180000
DTEND;TZID=Europe/Paris:20260228T180000
DTSTAMP:20260420T175618
CREATED:20260216T123931Z
LAST-MODIFIED:20260216T124027Z
UID:86321-1772301600-1772301600@rsg.si
SUMMARY:Let nad kukavičjim gnezdom
DESCRIPTION:Tragikomedija\, polna humorja\, ostrih dialogov in nepozabnih likov v izvedbi KUD Štefan Kovač Murska Sobota.
URL:https://rsg.si/dogodki/let-nad-kukavicjim-gnezdom/
LOCATION:Dom kulture Lenart
END:VEVENT
BEGIN:VEVENT
DTSTART;TZID=Europe/Paris:20260222T190000
DTEND;TZID=Europe/Paris:20260222T190000
DTSTAMP:20260420T175618
CREATED:20260128T124232Z
LAST-MODIFIED:20260128T124252Z
UID:86092-1771786800-1771786800@rsg.si
SUMMARY:EKSKLUZIVNI KONCERT GREGOR RAVNIK
DESCRIPTION:Ekskluzivni koncert Gregorja Ravnika z razširjeno glasbeno skupino. \n  \n 
URL:https://rsg.si/dogodki/ekskluzivni-koncert-gregor-ravnik/
LOCATION:Dom kulture Lenart
END:VEVENT
BEGIN:VEVENT
DTSTART;TZID=Europe/Paris:20260218T160000
DTEND;TZID=Europe/Paris:20260218T160000
DTSTAMP:20260420T175618
CREATED:20260213T120543Z
LAST-MODIFIED:20260213T120543Z
UID:86290-1771430400-1771430400@rsg.si
SUMMARY:Vilinska pravljična ustvarjalnica
DESCRIPTION:
URL:https://rsg.si/dogodki/vilinska-pravljicna-ustvarjalnica/
LOCATION:Knjižnica Lenart
END:VEVENT
BEGIN:VEVENT
DTSTART;TZID=Europe/Paris:20260217T180000
DTEND;TZID=Europe/Paris:20260217T180000
DTSTAMP:20260420T175618
CREATED:20260213T050953Z
LAST-MODIFIED:20260213T050953Z
UID:86282-1771351200-1771351200@rsg.si
SUMMARY:Dolgotrajna oskrba kot razvojna priložnost Slovenskih goric
DESCRIPTION:Javna tribuna
URL:https://rsg.si/dogodki/dolgotrajna-oskrba-kot-razvojna-priloznost-slovenskih-goric/
LOCATION:Kulturni dom Benedikt
END:VEVENT
BEGIN:VEVENT
DTSTART;TZID=Europe/Paris:20260214T110000
DTEND;TZID=Europe/Paris:20260214T120000
DTSTAMP:20260420T175618
CREATED:20260205T081208Z
LAST-MODIFIED:20260213T051412Z
UID:86196-1771066800-1771070400@rsg.si
SUMMARY:33. Pustovanje v Lenartu
DESCRIPTION:Povorka od Ilaunigove ulice\, mimo Centra za socialno delo\, Zdravstvenega doma in k Vrtcu Lenart. Najizvirnejše maškare bodo nagrajene.
URL:https://rsg.si/dogodki/33-pustovanje-v-lenartu/
LOCATION:Lenart
END:VEVENT
BEGIN:VEVENT
DTSTART;TZID=Europe/Paris:20260213T180000
DTEND;TZID=Europe/Paris:20260213T190000
DTSTAMP:20260420T175618
CREATED:20260205T071933Z
LAST-MODIFIED:20260213T051312Z
UID:86188-1771005600-1771009200@rsg.si
SUMMARY:Večer smeha 2026
DESCRIPTION:Nastopajoči: Over Mura Muvi Mejkers\, KD Rogašovci\, Dramska skupina Močnikovi\, Medgeneracijski center Danica Duplek\,  Veseli Vandrovci\, Zgrebaš \n 
URL:https://rsg.si/dogodki/vecer-smeha-2026/
LOCATION:Kulturni dom Sveta Ana
END:VEVENT
BEGIN:VEVENT
DTSTART;TZID=Europe/Paris:20260212T180000
DTEND;TZID=Europe/Paris:20260212T190000
DTSTAMP:20260420T175618
CREATED:20260205T073332Z
LAST-MODIFIED:20260205T073516Z
UID:86191-1770919200-1770922800@rsg.si
SUMMARY:Sr(e)čno z glasbo
DESCRIPTION:Koncert učencev in učenk Glasbene šole Lenart pod okriljem Konservatorija za glasbo in balet Maribor. Nastopila bosta tudi harmonikarski in pihalni orkester.
URL:https://rsg.si/dogodki/srecno-z-glasbo/
LOCATION:Dom kulture Lenart
END:VEVENT
BEGIN:VEVENT
DTSTART;TZID=Europe/Paris:20260207T180000
DTEND;TZID=Europe/Paris:20260207T180000
DTSTAMP:20260420T175618
CREATED:20260128T134113Z
LAST-MODIFIED:20260128T134113Z
UID:86101-1770487200-1770487200@rsg.si
SUMMARY:PROSLAVA OB SLOVENSKEM KULTURNEM PRAZNIKU V BENEDIKTU
DESCRIPTION:
URL:https://rsg.si/dogodki/proslava-ob-slovenskem-kulturnem-prazniku-v-benediktu/
LOCATION:Dom kulture Benedikt
END:VEVENT
BEGIN:VEVENT
DTSTART;TZID=Europe/Paris:20260206T170000
DTEND;TZID=Europe/Paris:20260206T170000
DTSTAMP:20260420T175618
CREATED:20260202T094139Z
LAST-MODIFIED:20260202T094139Z
UID:86143-1770397200-1770397200@rsg.si
SUMMARY:BARVE: prireditev ob slovenskem kulturnem prazniku na Sv. Ani
DESCRIPTION:Osnovna šola in Kulturno društvo Sveta Ana vabita na prireditev ob slovenskem kulturnem prazniku z naslovom BARVE. S prireditvijo bodo zaključili natečaj BARVE – v duhu Srečka Kosovela in razglasili zmagovalce.
URL:https://rsg.si/dogodki/barve-prireditev-ob-slovenskem-kulturnem-prazniku-na-sv-ani/
LOCATION:Kulturni dom Sveta Ana
END:VEVENT
BEGIN:VEVENT
DTSTART;TZID=Europe/Paris:20260206T170000
DTEND;TZID=Europe/Paris:20260206T170000
DTSTAMP:20260420T175618
CREATED:20260128T133939Z
LAST-MODIFIED:20260128T133939Z
UID:86098-1770397200-1770397200@rsg.si
SUMMARY:PROSLAVA OB SLOVENSKEM KULTURNEM PRAZNIKU V JUROVSKEM DOLU
DESCRIPTION:V kulturnem programu bodo sodelovali učenci OŠ Jožeta Hudalesa Jurovski Dol\, mlada kitaristka Pia Črnčec\, Jurovski oktet\, Zdenka Krautič in Marjana Kocuvan.
URL:https://rsg.si/dogodki/proslava-ob-slovenskem-kulturnem-prazniku-v-jurovskem-dolu/
LOCATION:Kulturni dom Jurovski Dol
END:VEVENT
BEGIN:VEVENT
DTSTART;TZID=Europe/Paris:20260201T110000
DTEND;TZID=Europe/Paris:20260201T110000
DTSTAMP:20260420T175618
CREATED:20260126T074511Z
LAST-MODIFIED:20260126T074511Z
UID:86056-1769943600-1769943600@rsg.si
SUMMARY:Oddaljevanje. Povezovanje.
DESCRIPTION:Samostojna razstava slik in naravnih izdelkov Andreje Tusulin
URL:https://rsg.si/dogodki/oddaljevanje-povezovanje/
LOCATION:Avla Antona Fašinga na Sv. Ani
END:VEVENT
BEGIN:VEVENT
DTSTART;TZID=Europe/Paris:20260131T170000
DTEND;TZID=Europe/Paris:20260131T170000
DTSTAMP:20260420T175618
CREATED:20260120T105748Z
LAST-MODIFIED:20260120T105748Z
UID:86002-1769878800-1769878800@rsg.si
SUMMARY:PONOVOLETNI KONCERT PIHALNEGA ORKESTRA APAČE
DESCRIPTION:
URL:https://rsg.si/dogodki/ponovoletni-koncert-pihalnega-orkestra-apace/
LOCATION:Kulturni dom Sveta Ana
END:VEVENT
BEGIN:VEVENT
DTSTART;TZID=Europe/Paris:20260117T170000
DTEND;TZID=Europe/Paris:20260117T170000
DTSTAMP:20260420T175618
CREATED:20260116T093941Z
LAST-MODIFIED:20260116T094858Z
UID:85976-1768669200-1768669200@rsg.si
SUMMARY:Antonov nočni pohod
DESCRIPTION:Pohod po zaselkih občine Cerkvenjak v organizaciji Turističnega društva Cerkvenjak.
URL:https://rsg.si/dogodki/antonov-nocni-pohod/
LOCATION:Parkirišče pred cerkvijo v Cerkvenjaku
END:VEVENT
BEGIN:VEVENT
DTSTART;TZID=Europe/Paris:20260101T180000
DTEND;TZID=Europe/Paris:20260101T210000
DTSTAMP:20260420T175618
CREATED:20251231T073326Z
LAST-MODIFIED:20251231T073326Z
UID:85795-1767290400-1767301200@rsg.si
SUMMARY:Novoletni nočni sprehod ob lučkah in baklah okrog Trojiškega jezera
DESCRIPTION:
URL:https://rsg.si/dogodki/novoletni-nocni-sprehod-ob-luckah-in-baklah-okrog-trojiskega-jezera/
LOCATION:Parkirišče pred Trojiškim jezerom
END:VEVENT
BEGIN:VEVENT
DTSTART;TZID=Europe/Paris:20251231T230000
DTEND;TZID=Europe/Paris:20251231T230000
DTSTAMP:20260420T175618
CREATED:20251229T143443Z
LAST-MODIFIED:20251229T143443Z
UID:85754-1767222000-1767222000@rsg.si
SUMMARY:Skupaj v leto 2026
DESCRIPTION:Silvestrovanje s skupino Sladki greh
URL:https://rsg.si/dogodki/skupaj-v-leto-2026/
LOCATION:Sv. Ana
END:VEVENT
BEGIN:VEVENT
DTSTART;TZID=Europe/Paris:20251231T230000
DTEND;TZID=Europe/Paris:20251231T230000
DTSTAMP:20260420T175618
CREATED:20251129T190602Z
LAST-MODIFIED:20251129T190706Z
UID:83302-1767222000-1767222000@rsg.si
SUMMARY:ČAROBNI BENEDIKT 2025: Silvestrovanje na saneh
DESCRIPTION:Pijača in hrana iz nahrbtnika\, prinesite lastne sani in se pridružite množičnemu silvestrovanju ob prenosu silvestrskega TV programa.
URL:https://rsg.si/dogodki/carobni-benedikt-2025-silvestrovanje-na-saneh/
LOCATION:Parkirišče ob Športni dvorani Benedikt
END:VEVENT
BEGIN:VEVENT
DTSTART;TZID=Europe/Paris:20251229T180000
DTEND;TZID=Europe/Paris:20251229T180000
DTSTAMP:20260420T175618
CREATED:20251218T071813Z
LAST-MODIFIED:20251228T111310Z
UID:85604-1767031200-1767031200@rsg.si
SUMMARY:70 let kina v Sv. Trojici: BELO SE PERE NA 90
DESCRIPTION:Zahvale zaslužnim članom kino sekcije KD Ernest Golob Peter Sv. Trojica in projekcija filma
URL:https://rsg.si/dogodki/silvestrovanje-na-saneh-v-benediktu/
LOCATION:Kulturni dom Sv. Trojica
END:VEVENT
BEGIN:VEVENT
DTSTART;TZID=Europe/Paris:20251228T180000
DTEND;TZID=Europe/Paris:20251228T180000
DTSTAMP:20260420T175618
CREATED:20251216T081812Z
LAST-MODIFIED:20251216T082151Z
UID:85571-1766944800-1766944800@rsg.si
SUMMARY:Zimska pravljica v Sv. Trojici: Maja Keuc in Uroš Perič
DESCRIPTION:Vstopnice: Eventim
URL:https://rsg.si/dogodki/zimska-pravljica-maja-keuc-in-uros-peric/
LOCATION:Cerkev Sv. Trojice
END:VEVENT
BEGIN:VEVENT
DTSTART;TZID=Europe/Paris:20251228T170000
DTEND;TZID=Europe/Paris:20251228T170000
DTSTAMP:20260420T175618
CREATED:20251211T145410Z
LAST-MODIFIED:20251211T145410Z
UID:85491-1766941200-1766941200@rsg.si
SUMMARY:Zimska pravljica v Sv. Trojici - Trojiško novo leto
DESCRIPTION:Razstava jaslic v samostanski kleti\, praznična ulica okusov\, mini božični market\, praznični foto kotički\, Dejan Dogaja (ob 21.30 uri)
URL:https://rsg.si/dogodki/zimska-pravljica-v-sv-trojici-trojisko-novo-leto/
LOCATION:Sv. Trojica
END:VEVENT
BEGIN:VEVENT
DTSTART;TZID=Europe/Paris:20251227T180000
DTEND;TZID=Europe/Paris:20251227T180000
DTSTAMP:20260420T175618
CREATED:20251215T105221Z
LAST-MODIFIED:20251215T105221Z
UID:85560-1766858400-1766858400@rsg.si
SUMMARY:Božično novoletni koncert
DESCRIPTION:Cerkveno prosvetni pevski zbor KD Sv. Ana
URL:https://rsg.si/dogodki/bozicno-novoletni-koncert/
LOCATION:Kulturni dom Sv. Ana
END:VEVENT
BEGIN:VEVENT
DTSTART;TZID=Europe/Paris:20251227T170000
DTEND;TZID=Europe/Paris:20251227T170000
DTSTAMP:20260420T175618
CREATED:20251211T145117Z
LAST-MODIFIED:20251211T145117Z
UID:85489-1766854800-1766854800@rsg.si
SUMMARY:Zimska pravljica v Sv. Trojici - Koncert Alye
DESCRIPTION:Razstava jaslic v samostanski kleti\, praznična ulica okusov\, mini božični market\, praznični foto kotički\, božične pravljice za otroke (ob 17. uri)\, DJ Keki – Ugly sweater party (ob 19. uri)\, koncert Alye (ob 21. uri)
URL:https://rsg.si/dogodki/zimska-pravljica-v-sv-trojici-koncert-alye/
LOCATION:Sv. Trojica
END:VEVENT
BEGIN:VEVENT
DTSTART;TZID=Europe/Paris:20251226T170000
DTEND;TZID=Europe/Paris:20251226T170000
DTSTAMP:20260420T175618
CREATED:20251211T144843Z
LAST-MODIFIED:20251211T144843Z
UID:85487-1766768400-1766768400@rsg.si
SUMMARY:Zimska pravljica v Sv. Trojici - Praznično dogajanje in After party
DESCRIPTION:Razstava jaslic v samostanski kleti\, praznična ulica okusov\, mini božični market\, praznični foto kotički\, božične ustvarjalne delavnice za otroke (ob 17. uri)\, Žive jaslice (ob 18. uri)\, DJ Cosmic in After party v samostanski kleti
URL:https://rsg.si/dogodki/zimska-pravljica-v-sv-trojici-praznicno-dogajanje-in-after-party/
LOCATION:Sv. Trojica
END:VEVENT
BEGIN:VEVENT
DTSTART;TZID=Europe/Paris:20251226T150000
DTEND;TZID=Europe/Paris:20251226T150000
DTSTAMP:20260420T175618
CREATED:20251211T100153Z
LAST-MODIFIED:20251211T100153Z
UID:85479-1766761200-1766761200@rsg.si
SUMMARY:Božični koncert Jurovskega okteta
DESCRIPTION:Jurovski oktet\, Cerkveni pevski zbor Župnije Sv. Jurij\, Vokalna skupina s šolskim ansamblom OŠ J. Hudalesa Jurovski Dol
URL:https://rsg.si/dogodki/bozicni-koncert-jurovskega-okteta/
LOCATION:Cerkev Sv. Jurija\, Jurovski Dol
END:VEVENT
BEGIN:VEVENT
DTSTART;TZID=Europe/Paris:20251225T180000
DTEND;TZID=Europe/Paris:20251225T180000
DTSTAMP:20260420T175618
CREATED:20251211T144628Z
LAST-MODIFIED:20251211T144628Z
UID:85485-1766685600-1766685600@rsg.si
SUMMARY:Zimska pravljica v Sv. Trojici - Žive jaslice
DESCRIPTION:Razstava jaslic v samostanski kleti\, praznična ulica okusov\, mini božični market\, praznični foto kotički\, Žive jaslice (ob 18. uri)
URL:https://rsg.si/dogodki/zimska-pravljica-v-sv-trojici-zive-jaslice/
LOCATION:Sv. Trojica
END:VEVENT
END:VCALENDAR