BEGIN:VCALENDAR
VERSION:2.0
PRODID:-//Radio Slovenske gorice - ECPv6.15.20//NONSGML v1.0//EN
CALSCALE:GREGORIAN
METHOD:PUBLISH
X-WR-CALNAME:Radio Slovenske gorice
X-ORIGINAL-URL:https://rsg.si
X-WR-CALDESC:Dogodki za Radio Slovenske gorice
REFRESH-INTERVAL;VALUE=DURATION:PT1H
X-Robots-Tag:noindex
X-PUBLISHED-TTL:PT1H
BEGIN:VTIMEZONE
TZID:Europe/Paris
BEGIN:DAYLIGHT
TZOFFSETFROM:+0100
TZOFFSETTO:+0200
TZNAME:CEST
DTSTART:20250330T010000
END:DAYLIGHT
BEGIN:STANDARD
TZOFFSETFROM:+0200
TZOFFSETTO:+0100
TZNAME:CET
DTSTART:20251026T010000
END:STANDARD
BEGIN:DAYLIGHT
TZOFFSETFROM:+0100
TZOFFSETTO:+0200
TZNAME:CEST
DTSTART:20260329T010000
END:DAYLIGHT
BEGIN:STANDARD
TZOFFSETFROM:+0200
TZOFFSETTO:+0100
TZNAME:CET
DTSTART:20261025T010000
END:STANDARD
BEGIN:DAYLIGHT
TZOFFSETFROM:+0100
TZOFFSETTO:+0200
TZNAME:CEST
DTSTART:20270328T010000
END:DAYLIGHT
BEGIN:STANDARD
TZOFFSETFROM:+0200
TZOFFSETTO:+0100
TZNAME:CET
DTSTART:20271031T010000
END:STANDARD
END:VTIMEZONE
BEGIN:VEVENT
DTSTART;TZID=Europe/Paris:20260419T110000
DTEND;TZID=Europe/Paris:20260419T110000
DTSTAMP:20260420T130239
CREATED:20260414T111237Z
LAST-MODIFIED:20260414T120714Z
UID:87061-1776596400-1776596400@rsg.si
SUMMARY:Likovna razstava KD Babičina skrinja Lenart
DESCRIPTION:
URL:https://rsg.si/dogodki/likovna-razstava-kd-babicina-skrinja-lenart/
LOCATION:v prostorih Občine Sveta Ana
END:VEVENT
BEGIN:VEVENT
DTSTART;TZID=Europe/Paris:20260418T190000
DTEND;TZID=Europe/Paris:20260418T190000
DTSTAMP:20260420T130239
CREATED:20260402T132511Z
LAST-MODIFIED:20260402T133605Z
UID:86904-1776538800-1776538800@rsg.si
SUMMARY:JURJEVI DNEVI 2026: Oma in jelka\, tisoče let
DESCRIPTION:Nataša Kramberger in Samo Kutin\, pripovedovalsko-glasbena predstava
URL:https://rsg.si/dogodki/oma-in-jelka-tisoce-let/
LOCATION:Kulturni dom Jurovski Dol
END:VEVENT
BEGIN:VEVENT
DTSTART;TZID=Europe/Paris:20260418T180000
DTEND;TZID=Europe/Paris:20260418T180000
DTSTAMP:20260420T130239
CREATED:20260410T114611Z
LAST-MODIFIED:20260410T114611Z
UID:87025-1776535200-1776535200@rsg.si
SUMMARY:Večer glasbe in dobrodelnosti
DESCRIPTION:Nastopajoči: Alfi Nipič\, Oto Vrhovnik\, pater Toni Brinjovc\, humorista Simona in Matjaž Kosi (Župnija Sv. Lenart)
URL:https://rsg.si/dogodki/vecer-glasbe-in-dobrodelnosti/
LOCATION:Dom kulture Lenart
END:VEVENT
BEGIN:VEVENT
DTSTART;TZID=Europe/Paris:20260418T090000
DTEND;TZID=Europe/Paris:20260418T130000
DTSTAMP:20260420T130239
CREATED:20260407T055140Z
LAST-MODIFIED:20260407T055140Z
UID:86956-1776502800-1776517200@rsg.si
SUMMARY:30 LET PREDELAVE SLOVENSKE OVČJE VOLNE
DESCRIPTION:Dan odprtih vrat podjetja Soven
URL:https://rsg.si/dogodki/30-let-predelave-slovenske-ovcje-volne/
LOCATION:Soven Selnica ob Dravi
END:VEVENT
BEGIN:VEVENT
DTSTART;TZID=Europe/Paris:20260416T180000
DTEND;TZID=Europe/Paris:20260416T180000
DTSTAMP:20260420T130239
CREATED:20260402T101928Z
LAST-MODIFIED:20260413T081406Z
UID:86891-1776362400-1776362400@rsg.si
SUMMARY:Slavčkov gaj
DESCRIPTION:Območna revija mladinskih pevskih zborov
URL:https://rsg.si/dogodki/slavckov-gaj/
LOCATION:Dom kulture Benedikt
END:VEVENT
BEGIN:VEVENT
DTSTART;TZID=Europe/Paris:20260416T153000
DTEND;TZID=Europe/Paris:20260416T153000
DTSTAMP:20260420T130239
CREATED:20260402T101827Z
LAST-MODIFIED:20260402T133628Z
UID:86889-1776353400-1776353400@rsg.si
SUMMARY:Čričkov gaj
DESCRIPTION:Območna revija otroških pevskih zborov
URL:https://rsg.si/dogodki/crickov-gaj/
LOCATION:Dom kulture Benedikt
END:VEVENT
BEGIN:VEVENT
DTSTART;TZID=Europe/Paris:20260412T190000
DTEND;TZID=Europe/Paris:20260412T190000
DTSTAMP:20260420T130239
CREATED:20260405T090925Z
LAST-MODIFIED:20260405T091023Z
UID:86953-1776020400-1776020400@rsg.si
SUMMARY:Koncert Slakove glasbe: To smo mi prijatelji
DESCRIPTION:Nastopajoči:  Andrej Bergant\, Rok Švab in Silvo Pliberšek s prijatelji\, Nemir\, Akordi\, Dar\, Žiga in Polde Pungerčar\, Jure Mlinšek ter Marcela IN. Vstopnice: Eventim\, Trsek v Benediktu\, Gostilna 29 v Lenartu
URL:https://rsg.si/dogodki/koncert-slakove-glasbe-to-smo-mi-prijatelji/
LOCATION:Športna dvorana Benedikt
END:VEVENT
BEGIN:VEVENT
DTSTART;TZID=Europe/Paris:20260412T150000
DTEND;TZID=Europe/Paris:20260412T150000
DTSTAMP:20260420T130239
CREATED:20260402T101714Z
LAST-MODIFIED:20260402T133644Z
UID:86887-1776006000-1776006000@rsg.si
SUMMARY:Maroltovo srečanje
DESCRIPTION:Območno srečanje odraslih folklornih skupin
URL:https://rsg.si/dogodki/maroltovo-srecanje/
LOCATION:Dom kulture Lenart
END:VEVENT
BEGIN:VEVENT
DTSTART;TZID=Europe/Paris:20260412T140000
DTEND;TZID=Europe/Paris:20260412T140000
DTSTAMP:20260420T130239
CREATED:20260324T100835Z
LAST-MODIFIED:20260324T100835Z
UID:86763-1776002400-1776002400@rsg.si
SUMMARY:Pomladni pohod "Zdravimo se z naravo"
DESCRIPTION:Organizator: Društvo kmečkih deklet in žena Cerkvenjak
URL:https://rsg.si/dogodki/pomladni-pohod-zdravimo-se-z-naravo/
LOCATION:zbor na ploščadi pred Domom kulture v Cerkvenjaku
END:VEVENT
BEGIN:VEVENT
DTSTART;TZID=Europe/Paris:20260411T103000
DTEND;TZID=Europe/Paris:20260411T103000
DTSTAMP:20260420T130239
CREATED:20260402T121303Z
LAST-MODIFIED:20260402T121303Z
UID:86899-1775903400-1775903400@rsg.si
SUMMARY:Državno prvenstvo v kickboxingu
DESCRIPTION:Radgonski kickboxing klub
URL:https://rsg.si/dogodki/drzavno-prvenstvo-v-kickboxingu/
LOCATION:Športna dvorana Gornja Radgona
END:VEVENT
BEGIN:VEVENT
DTSTART;TZID=Europe/Paris:20260410T190000
DTEND;TZID=Europe/Paris:20260410T190000
DTSTAMP:20260420T130239
CREATED:20260213T112330Z
LAST-MODIFIED:20260402T111709Z
UID:86288-1775847600-1775847600@rsg.si
SUMMARY:Dobrodelna predstava: Vitomarški Butalci
DESCRIPTION:Vstopnina namenjena Teu iz okolice Ptuja
URL:https://rsg.si/dogodki/dobrodelna-predstava-vitomarski-butalci/
LOCATION:Dom kulture Lenart
END:VEVENT
BEGIN:VEVENT
DTSTART;TZID=Europe/Paris:20260410T180000
DTEND;TZID=Europe/Paris:20260410T180000
DTSTAMP:20260420T130239
CREATED:20260408T123821Z
LAST-MODIFIED:20260408T123821Z
UID:86982-1775844000-1775844000@rsg.si
SUMMARY:Filmski večer: KEKČEVE UKANE
DESCRIPTION:Organizator: KD Cerkvenjak
URL:https://rsg.si/dogodki/filmski-vecer-kekceve-ukane/
LOCATION:Dom kulture Cerkvenjak
END:VEVENT
BEGIN:VEVENT
DTSTART;TZID=Europe/Paris:20260406T140000
DTEND;TZID=Europe/Paris:20260406T140000
DTSTAMP:20260420T130239
CREATED:20260402T120857Z
LAST-MODIFIED:20260402T121108Z
UID:86896-1775484000-1775484000@rsg.si
SUMMARY:Negovski pohod med jezovi in narcisami
DESCRIPTION:V organizaciji Turističnega društva Negova – Spodnji Ivanjci
URL:https://rsg.si/dogodki/negovski-pohod-med-jezovi-in-narcisami/
LOCATION:Grad Negova
END:VEVENT
BEGIN:VEVENT
DTSTART;TZID=Europe/Paris:20260402T173000
DTEND;TZID=Europe/Paris:20260402T173000
DTSTAMP:20260420T130239
CREATED:20260330T084416Z
LAST-MODIFIED:20260330T084416Z
UID:86842-1775151000-1775151000@rsg.si
SUMMARY:Pravljične urice v Cerkvenjaku
DESCRIPTION:Vabljeni mali ljubitelji pravljic (3-7 let) skupaj s starši. Organizator: KD Cerkvenjak
URL:https://rsg.si/dogodki/pravljicne-urice-v-cerkvenjaku/
LOCATION:Dom kulture Cerkvenjak
END:VEVENT
BEGIN:VEVENT
DTSTART;TZID=Europe/Paris:20260330T160000
DTEND;TZID=Europe/Paris:20260330T160000
DTSTAMP:20260420T130239
CREATED:20260324T101015Z
LAST-MODIFIED:20260324T101015Z
UID:86766-1774886400-1774886400@rsg.si
SUMMARY:Pomladna pravljična ustvarjalnica s petelinčkom in nenavadnim jajcem
DESCRIPTION:Organizator: KD Benedikt in Knjižnica Lenart
URL:https://rsg.si/dogodki/pomladna-pravljicna-ustvarjalnica-s-petelinckom-in-nenavadnim-jajcem/
LOCATION:Dom kulture Benedikt
END:VEVENT
BEGIN:VEVENT
DTSTART;TZID=Europe/Paris:20260330T080000
DTEND;TZID=Europe/Paris:20260330T120000
DTSTAMP:20260420T130239
CREATED:20260324T100348Z
LAST-MODIFIED:20260324T100348Z
UID:86758-1774857600-1774872000@rsg.si
SUMMARY:21. velikonočna razstava v Cerkvenjaku
DESCRIPTION:Organizator: Društvo kmečkih deklet in žena Cerkvenjak
URL:https://rsg.si/dogodki/21-velikonocna-razstava-v-cerkvenjaku-3/
LOCATION:Avla Vlada Tušaka v Cerkvenjaku
END:VEVENT
BEGIN:VEVENT
DTSTART;TZID=Europe/Paris:20260329T160000
DTEND;TZID=Europe/Paris:20260329T160000
DTSTAMP:20260420T130239
CREATED:20260325T070640Z
LAST-MODIFIED:20260325T070640Z
UID:86781-1774800000-1774800000@rsg.si
SUMMARY:PGD Osek: Proslava ob materinskem dnevu
DESCRIPTION:Nastopajoči: Otroci gasilskega društva
URL:https://rsg.si/dogodki/pgd-osek-proslava-ob-materinskem-dnevu/
LOCATION:Gasilski dom PGD Osek
END:VEVENT
BEGIN:VEVENT
DTSTART;TZID=Europe/Paris:20260329T080000
DTEND;TZID=Europe/Paris:20260329T180000
DTSTAMP:20260420T130239
CREATED:20260324T100319Z
LAST-MODIFIED:20260324T100319Z
UID:86756-1774771200-1774807200@rsg.si
SUMMARY:21. velikonočna razstava v Cerkvenjaku
DESCRIPTION:Organizator: Društvo kmečkih deklet in žena Cerkvenjak
URL:https://rsg.si/dogodki/21-velikonocna-razstava-v-cerkvenjaku-2/
LOCATION:Avla Vlada Tušaka v Cerkvenjaku
END:VEVENT
BEGIN:VEVENT
DTSTART;TZID=Europe/Paris:20260328T200000
DTEND;TZID=Europe/Paris:20260328T200000
DTSTAMP:20260420T130239
CREATED:20260325T083744Z
LAST-MODIFIED:20260326T072307Z
UID:86788-1774728000-1774728000@rsg.si
SUMMARY:Koncert: Mi2 v Šentilju
DESCRIPTION:Organizator: Občina Šentilj\, vstopnice na Eventimu.
URL:https://rsg.si/dogodki/koncert-mi2-v-sentilju/
LOCATION:Športna dvorana Šentilj
END:VEVENT
BEGIN:VEVENT
DTSTART;TZID=Europe/Paris:20260328T160000
DTEND;TZID=Europe/Paris:20260328T160000
DTSTAMP:20260420T130239
CREATED:20260324T102848Z
LAST-MODIFIED:20260324T102848Z
UID:86771-1774713600-1774713600@rsg.si
SUMMARY:Pomladna zeliščna kuharija s Katjo Temnik iz zeliščnega vrta Majnika
DESCRIPTION:Organizator: Društvo kmečkih deklet in žena Cerkvenjak
URL:https://rsg.si/dogodki/pomladna-zeliscna-kuharija-s-katjo-temnik-iz-zeliscnega-vrta-majnika/
LOCATION:Dom kulture Cerkvenjak
END:VEVENT
BEGIN:VEVENT
DTSTART;TZID=Europe/Paris:20260328T090000
DTEND;TZID=Europe/Paris:20260328T180000
DTSTAMP:20260420T130239
CREATED:20260324T100148Z
LAST-MODIFIED:20260324T100634Z
UID:86751-1774688400-1774720800@rsg.si
SUMMARY:21. velikonočna razstava v Cerkvenjaku
DESCRIPTION:Organizator: Društvo kmečkih deklet in žena Cerkvenjak
URL:https://rsg.si/dogodki/21-velikonocna-razstava-v-cerkvenjaku/
LOCATION:Avla Vlada Tušaka v Cerkvenjaku
END:VEVENT
BEGIN:VEVENT
DTSTART;TZID=Europe/Paris:20260328T090000
DTEND;TZID=Europe/Paris:20260328T120000
DTSTAMP:20260420T130239
CREATED:20260324T101322Z
LAST-MODIFIED:20260324T101322Z
UID:86768-1774688400-1774699200@rsg.si
SUMMARY:Pomladna tržnica in lutkovna predstava Čubibubi
DESCRIPTION:Ponudba domačega peciva\, kruha\, testenin\, domačih mesnin in mlečnih izdelkov\, medu in medenih izdelkov … \nOb 10. uri v kulturnem domu lutkovna predstava Čubibubi v izvedbi učencev OŠ Jožeta Hudalesa Jurovski Dol. Po predstavi sledijo pomladne ustvarjalne delavnice. \n 
URL:https://rsg.si/dogodki/pomladna-trznica-in-lutkovna-predstava-cubibubi/
LOCATION:Trg v Jurovskem Dolu in Dom kulture
END:VEVENT
BEGIN:VEVENT
DTSTART;TZID=Europe/Paris:20260327T180000
DTEND;TZID=Europe/Paris:20260327T180000
DTSTAMP:20260420T130239
CREATED:20260321T183044Z
LAST-MODIFIED:20260321T183044Z
UID:86728-1774634400-1774634400@rsg.si
SUMMARY:Materam za praznik
DESCRIPTION:Tradicionalna prireditev KTD Selce
URL:https://rsg.si/dogodki/materam-za-praznik/
LOCATION:Kulturni dom Selce
END:VEVENT
BEGIN:VEVENT
DTSTART;TZID=Europe/Paris:20260327T090000
DTEND;TZID=Europe/Paris:20260327T170000
DTSTAMP:20260420T130239
CREATED:20260320T075056Z
LAST-MODIFIED:20260325T074849Z
UID:86717-1774602000-1774630800@rsg.si
SUMMARY:SEJEM MEGRA: Kariera\, BIM in zelena gradnja
DESCRIPTION:Teme: Izobraževalni dan gradbeništva\, vpis v imenik vodij gradnje.
URL:https://rsg.si/dogodki/megra-kariera-bim-in-zelena-gradnja/
LOCATION:Sejmišče Gornja Radgona
END:VEVENT
BEGIN:VEVENT
DTSTART;TZID=Europe/Paris:20260326T180000
DTEND;TZID=Europe/Paris:20260326T180000
DTSTAMP:20260420T130239
CREATED:20260302T151422Z
LAST-MODIFIED:20260302T151422Z
UID:86471-1774548000-1774548000@rsg.si
SUMMARY:Pogovorni večer z duhovnikom Martinom Golobom
DESCRIPTION:Ob praznovanju 100 letnice pripravlja KD Sv. Ana
URL:https://rsg.si/dogodki/pogovorni-vecer-z-duhovnikom-martinom-golobom/
LOCATION:Kulturni dom Sv. Ana
END:VEVENT
BEGIN:VEVENT
DTSTART;TZID=Europe/Paris:20260326T090000
DTEND;TZID=Europe/Paris:20260326T170000
DTSTAMP:20260420T130239
CREATED:20260320T074815Z
LAST-MODIFIED:20260325T074927Z
UID:86715-1774515600-1774544400@rsg.si
SUMMARY:SEJEM MEGRA: Investicije in tehnologije
DESCRIPTION:Teme: Predstavitev gradbenih projektov\, standardi in kazalniki za pametna mesta.
URL:https://rsg.si/dogodki/sejem-megra-investicije-in-tehnologije/
LOCATION:Sejmišče Gornja Radgona
END:VEVENT
BEGIN:VEVENT
DTSTART;TZID=Europe/Paris:20260326T090000
DTEND;TZID=Europe/Paris:20260326T090000
DTSTAMP:20260420T130239
CREATED:20260317T122954Z
LAST-MODIFIED:20260317T122954Z
UID:86658-1774515600-1774515600@rsg.si
SUMMARY:DELAVNICA ZA SENIORJE: OSEBNO DOPOLNILNO DELO IN DOPOLNILNA DEJAVNOST NA KMETIJI
DESCRIPTION:Organizator: Razvojna agencija Slovenske gorice.
URL:https://rsg.si/dogodki/delavnica-za-seniorje-osebno-dopolnilno-delo-in-dopolnilna-dejavnost-na-kmetiji/
LOCATION:RASG\, Nikova 9\, Lenart
END:VEVENT
BEGIN:VEVENT
DTSTART;TZID=Europe/Paris:20260325T090000
DTEND;TZID=Europe/Paris:20260325T170000
DTSTAMP:20260420T130239
CREATED:20260320T073543Z
LAST-MODIFIED:20260320T073543Z
UID:86712-1774429200-1774458000@rsg.si
SUMMARY:SEJEM MEGRA: Strateški razvoj in prenova
DESCRIPTION:Teme: Celovita prenova stavb\, izgradnja stanovanj do leta 2035\, slavnostna otvoritev.
URL:https://rsg.si/dogodki/sejem-megra-strateski-razvoj-in-prenova/
LOCATION:Sejmišče Gornja Radgona
END:VEVENT
BEGIN:VEVENT
DTSTART;TZID=Europe/Paris:20260324T190000
DTEND;TZID=Europe/Paris:20260324T190000
DTSTAMP:20260420T130239
CREATED:20260311T081254Z
LAST-MODIFIED:20260311T104155Z
UID:86578-1774378800-1774378800@rsg.si
SUMMARY:Literarni večer s Ksenijo Trs in Tadejem Vesenjakom
DESCRIPTION:Literarni večer\, obarvan s prleškim narečjem v besedi in pesmi. Organizator: KD Cerkvenjak.
URL:https://rsg.si/dogodki/literarni-vecer-s-ksenijo-trs-in-tadejem-vesenjakom/
LOCATION:Dom kulture Cerkvenjak
END:VEVENT
BEGIN:VEVENT
DTSTART;TZID=Europe/Paris:20260322T150000
DTEND;TZID=Europe/Paris:20260322T150000
DTSTAMP:20260420T130239
CREATED:20260317T074459Z
LAST-MODIFIED:20260317T083712Z
UID:86654-1774191600-1774191600@rsg.si
SUMMARY:Prireditev ob materinskem dnevu v Benediktu
DESCRIPTION:Organizator je KD Benedikt\, nastopili pa bodo: pevke ljudskih pesmi Žitni klas\, Otroški pevski zbor  OŠ Benedikt\, Velški glasovi\, Jurovski gadi in vokalna skupina VOX Angelica.
URL:https://rsg.si/dogodki/prireditev-ob-materinskem-dnevu-v-benediktu/
LOCATION:Kulturni dom Benedikt
END:VEVENT
END:VCALENDAR